BEGIN:VCALENDAR
PRODID:-//Google Inc//Google Calendar 70.9054//EN
VERSION:2.0
CALSCALE:GREGORIAN
METHOD:PUBLISH
X-WR-CALNAME:2026 Vedic Calendar
X-WR-TIMEZONE:America/Toronto
BEGIN:VEVENT
DTSTART;VALUE=DATE:20261215
DTEND;VALUE=DATE:20261216
DTSTAMP:20251203T213326Z
UID:4m474ojt1hr4l5i0ape7g1niv8@google.com
CREATED:20251203T164741Z
LAST-MODIFIED:20251203T164741Z
SEQUENCE:0
STATUS:CONFIRMED
SUMMARY:Skanda Shashthi: Day of Karttikeya
TRANSP:TRANSPARENT
END:VEVENT
BEGIN:VEVENT
DTSTART;VALUE=DATE:20260110
DTEND;VALUE=DATE:20260111
DTSTAMP:20251203T213326Z
UID:30t4j0bv4n1jco74kau48i7dgt@google.com
CREATED:20251203T163523Z
LAST-MODIFIED:20251203T163524Z
SEQUENCE:0
STATUS:CONFIRMED
SUMMARY:Birthday of Maharaj Adhiraj Rajaraam
TRANSP:TRANSPARENT
END:VEVENT
BEGIN:VEVENT
DTSTART;VALUE=DATE:20260916
DTEND;VALUE=DATE:20260917
DTSTAMP:20251203T213326Z
UID:15h1vilan0fkg60s3g0t0u7sdr@google.com
CREATED:20251203T164543Z
LAST-MODIFIED:20251203T164544Z
SEQUENCE:0
STATUS:CONFIRMED
SUMMARY:Day of Vishwakarma
TRANSP:TRANSPARENT
END:VEVENT
BEGIN:VEVENT
DTSTART;VALUE=DATE:20261020
DTEND;VALUE=DATE:20261021
DTSTAMP:20251203T213326Z
UID:3on9ote9phm4ni7cvihoiepv5h@google.com
CREATED:20251203T164618Z
LAST-MODIFIED:20251203T164618Z
SEQUENCE:0
STATUS:CONFIRMED
SUMMARY:Vijaya Dashami: Victory Day
TRANSP:TRANSPARENT
END:VEVENT
BEGIN:VEVENT
DTSTART;VALUE=DATE:20261120
DTEND;VALUE=DATE:20261121
DTSTAMP:20251203T213326Z
UID:3h2vg1k91p7bvao1tv05jprskm@google.com
CREATED:20251203T164726Z
LAST-MODIFIED:20251203T164726Z
SEQUENCE:0
STATUS:CONFIRMED
SUMMARY:Deva Prabodhini Ekadashi: Day of Awakening
TRANSP:TRANSPARENT
END:VEVENT
BEGIN:VEVENT
DTSTART;VALUE=DATE:20260831
DTEND;VALUE=DATE:20260901
DTSTAMP:20251203T213326Z
UID:4fa0g6n7k6mq3ungcts9521oo4@google.com
CREATED:20251203T164445Z
LAST-MODIFIED:20251203T164445Z
SEQUENCE:0
STATUS:CONFIRMED
SUMMARY:Mother Divine Program 45th Anniversary
TRANSP:TRANSPARENT
END:VEVENT
BEGIN:VEVENT
DTSTART;VALUE=DATE:20260729
DTEND;VALUE=DATE:20260730
DTSTAMP:20251203T213326Z
UID:1ke362538a1dtb6qv7r7gei6r0@google.com
CREATED:20251203T164408Z
LAST-MODIFIED:20251203T164408Z
SEQUENCE:0
STATUS:CONFIRMED
SUMMARY:Guru Purnima: Day of Fullness of the Guru
TRANSP:TRANSPARENT
END:VEVENT
BEGIN:VEVENT
DTSTART;VALUE=DATE:20261011
DTEND;VALUE=DATE:20261012
DTSTAMP:20251203T213326Z
UID:4mthtl35c1ir3h1mq00pq0vf5g@google.com
CREATED:20251203T164606Z
LAST-MODIFIED:20251203T164607Z
SEQUENCE:0
STATUS:CONFIRMED
SUMMARY:Sharadiya Navaratri : Nine Days of Mother Divine
TRANSP:TRANSPARENT
END:VEVENT
BEGIN:VEVENT
DTSTART;VALUE=DATE:20260420
DTEND;VALUE=DATE:20260421
DTSTAMP:20251203T213326Z
UID:5v7dk47relf2nq8op2aro8r2bo@google.com
CREATED:20251203T164240Z
LAST-MODIFIED:20251203T164240Z
SEQUENCE:0
STATUS:CONFIRMED
SUMMARY:Akshaya Tritiya: Day of Lasting Achievements
TRANSP:TRANSPARENT
END:VEVENT
BEGIN:VEVENT
DTSTART;VALUE=DATE:20260501
DTEND;VALUE=DATE:20260502
DTSTAMP:20251203T213326Z
UID:2m29vrdfoiqr3pj8hi1dvieuse@google.com
CREATED:20251203T164313Z
LAST-MODIFIED:20251203T164313Z
SEQUENCE:0
STATUS:CONFIRMED
SUMMARY:Buddha Jayanti: Birthday of Buddha
TRANSP:TRANSPARENT
END:VEVENT
BEGIN:VEVENT
DTSTART;VALUE=DATE:20260912
DTEND;VALUE=DATE:20260913
DTSTAMP:20251203T213326Z
UID:75lpjlckq7ctgu0ukp0ssk6ncs@google.com
CREATED:20251203T164526Z
LAST-MODIFIED:20251203T164526Z
SEQUENCE:0
STATUS:CONFIRMED
SUMMARY:MIU Founder’s Day
TRANSP:TRANSPARENT
END:VEVENT
BEGIN:VEVENT
DTSTART;VALUE=DATE:20260304
DTEND;VALUE=DATE:20260305
DTSTAMP:20251203T213326Z
UID:7o8avc4f299mjde2le2v824mir@google.com
CREATED:20251203T164131Z
LAST-MODIFIED:20251203T164131Z
SEQUENCE:0
STATUS:CONFIRMED
SUMMARY:Holi
TRANSP:TRANSPARENT
END:VEVENT
BEGIN:VEVENT
DTSTART;VALUE=DATE:20260904
DTEND;VALUE=DATE:20260905
DTSTAMP:20251203T213326Z
UID:4q9gpmoqaqqmedn983ig41uu82@google.com
CREATED:20251203T164505Z
LAST-MODIFIED:20251203T164505Z
SEQUENCE:0
STATUS:CONFIRMED
SUMMARY:Krishna Janmashtami: Birthday of Krishna
TRANSP:TRANSPARENT
END:VEVENT
BEGIN:VEVENT
DTSTART;VALUE=DATE:20261020
DTEND;VALUE=DATE:20261021
DTSTAMP:20251203T213326Z
UID:16ba4vtkm3ng2as9rt4o17cqd7@google.com
CREATED:20251203T164634Z
LAST-MODIFIED:20251203T164634Z
SEQUENCE:0
STATUS:CONFIRMED
SUMMARY:Maharishi Purusha Program 45th Anniversary
TRANSP:TRANSPARENT
END:VEVENT
BEGIN:VEVENT
DTSTART;VALUE=DATE:20260828
DTEND;VALUE=DATE:20260829
DTSTAMP:20251203T213326Z
UID:2i8im9b5r1p9tp8eddndra2ek0@google.com
CREATED:20251203T164426Z
LAST-MODIFIED:20251203T164426Z
SEQUENCE:0
STATUS:CONFIRMED
SUMMARY:Raksha Bandhana: Day of Protection of Relations
TRANSP:TRANSPARENT
END:VEVENT
BEGIN:VEVENT
DTSTART;VALUE=DATE:20260123
DTEND;VALUE=DATE:20260124
DTSTAMP:20251203T213326Z
UID:5hlnti030ia65o7569paes9dv1@google.com
CREATED:20251203T163703Z
LAST-MODIFIED:20251203T163704Z
SEQUENCE:0
STATUS:CONFIRMED
SUMMARY:Vasant Panchami: Day of Saraswati
TRANSP:TRANSPARENT
END:VEVENT
BEGIN:VEVENT
DTSTART;VALUE=DATE:20260215
DTEND;VALUE=DATE:20260216
DTSTAMP:20251203T213326Z
UID:5dglbvf35o2976jtgokeingbks@google.com
CREATED:20251203T163838Z
DESCRIPTION:<p>Dates of Vedic holidays are given for the Netherlands. They 
 may be a day</p><p>earlier or later in other locations. To obtain an auspic
 ious time for an event\,</p><p>please consult a Maharishi Jyotish program e
 xpert.</p>
LAST-MODIFIED:20251203T163839Z
SEQUENCE:0
STATUS:CONFIRMED
SUMMARY:Maha Shivaratri – Day of Shiva
TRANSP:TRANSPARENT
END:VEVENT
BEGIN:VEVENT
DTSTART;VALUE=DATE:20261108
DTEND;VALUE=DATE:20261109
DTSTAMP:20251203T213326Z
UID:7lfnh0bjpm39da8m97qde2f3t3@google.com
CREATED:20251203T164713Z
LAST-MODIFIED:20251203T164713Z
SEQUENCE:0
STATUS:CONFIRMED
SUMMARY:Mahalakshmi\, Dipavali : Festival of Lights
TRANSP:TRANSPARENT
END:VEVENT
BEGIN:VEVENT
DTSTART;VALUE=DATE:20260327
DTEND;VALUE=DATE:20260328
DTSTAMP:20251203T213326Z
UID:0sflheff3u1p2pbur6pqlhf2jh@google.com
CREATED:20251203T164203Z
LAST-MODIFIED:20251203T164203Z
SEQUENCE:0
STATUS:CONFIRMED
SUMMARY:Raam Navami: Birthday of Raam
TRANSP:TRANSPARENT
END:VEVENT
BEGIN:VEVENT
DTSTART;VALUE=DATE:20260112
DTEND;VALUE=DATE:20260113
DTSTAMP:20251203T213326Z
UID:31gc9fhqu8loir0l1a5lethctd@google.com
CREATED:20251203T163622Z
LAST-MODIFIED:20251203T163623Z
SEQUENCE:0
STATUS:CONFIRMED
SUMMARY:First Day of the 19th Year of Invincibility—Global Raam Raj
TRANSP:TRANSPARENT
END:VEVENT
BEGIN:VEVENT
DTSTART;VALUE=DATE:20261231
DTEND;VALUE=DATE:20270101
DTSTAMP:20251203T213326Z
UID:6tuvqa4dnv90bh163e4tph8jiv@google.com
CREATED:20251203T164758Z
LAST-MODIFIED:20251203T164758Z
SEQUENCE:0
STATUS:CONFIRMED
SUMMARY:Inauguration of Maharishi’s Worldwide Movement
TRANSP:TRANSPARENT
END:VEVENT
BEGIN:VEVENT
DTSTART;VALUE=DATE:20261106
DTEND;VALUE=DATE:20261107
DTSTAMP:20251203T213326Z
UID:38j071nim9egngsc033123kik4@google.com
CREATED:20251203T164651Z
LAST-MODIFIED:20251203T164652Z
SEQUENCE:0
STATUS:CONFIRMED
SUMMARY:Dhanvantari Jayanti : Ayur-Veda Day
TRANSP:TRANSPARENT
END:VEVENT
BEGIN:VEVENT
DTSTART;VALUE=DATE:20260319
DTEND;VALUE=DATE:20260320
DTSTAMP:20251203T213326Z
UID:0omlr4ml0f90rg6q75i40qj20g@google.com
CREATED:20251203T164146Z
LAST-MODIFIED:20251203T164146Z
SEQUENCE:0
STATUS:CONFIRMED
SUMMARY:Vasantik Navaratri: Nine Days of Mother Divine
TRANSP:TRANSPARENT
END:VEVENT
BEGIN:VEVENT
DTSTART;VALUE=DATE:20260914
DTEND;VALUE=DATE:20260915
DTSTAMP:20251203T213326Z
UID:7e0el1f0rlubutigdff08kvag6@google.com
CREATED:20251203T164531Z
LAST-MODIFIED:20251203T164531Z
SEQUENCE:0
STATUS:CONFIRMED
SUMMARY:Shri Ganesh Chaturthi: Birthday of Ganesh
TRANSP:TRANSPARENT
END:VEVENT
BEGIN:VEVENT
DTSTART;VALUE=DATE:20260526
DTEND;VALUE=DATE:20260527
DTSTAMP:20251203T213326Z
UID:0o0g45jgtjce2ijosbc1bo5dsu@google.com
CREATED:20251203T164326Z
LAST-MODIFIED:20251203T164327Z
SEQUENCE:0
STATUS:CONFIRMED
SUMMARY:Ganga Dashahara: Day of Ganga
TRANSP:TRANSPARENT
END:VEVENT
BEGIN:VEVENT
DTSTART;VALUE=DATE:20260402
DTEND;VALUE=DATE:20260403
DTSTAMP:20251203T213326Z
UID:0qdgt3gcecbp58g0d1s1j7dtc6@google.com
CREATED:20251203T164224Z
LAST-MODIFIED:20251203T164224Z
SEQUENCE:0
STATUS:CONFIRMED
SUMMARY:Hanuman Jayanti : Birthday of Hanuman
TRANSP:TRANSPARENT
END:VEVENT
BEGIN:VEVENT
DTSTART;VALUE=DATE:20261107
DTEND;VALUE=DATE:20261108
DTSTAMP:20251203T213326Z
UID:7thp6h5krnqcsds0ubparu0g2g@google.com
CREATED:20251203T164700Z
LAST-MODIFIED:20251203T164700Z
SEQUENCE:0
STATUS:CONFIRMED
SUMMARY:Hanuman Jayanti
TRANSP:TRANSPARENT
END:VEVENT
END:VCALENDAR
