BEGIN:VCALENDAR
PRODID:-//Google Inc//Google Calendar 70.9054//EN
VERSION:2.0
CALSCALE:GREGORIAN
METHOD:PUBLISH
X-WR-CALNAME:Purusha Course Schedule
X-WR-TIMEZONE:America/New_York
BEGIN:VEVENT
DTSTART;VALUE=DATE:20251229
DTEND;VALUE=DATE:20260114
DTSTAMP:20251204T015113Z
UID:68og8sf3bs6fdpinlt6o9u283g@google.com
CREATED:20250731T133407Z
DESCRIPTION:Silence WPA - December 29 to January 13 - 15 nights - $2150<br>
 <br><br>Course description: <a href="https://www.purushacourses.org/courses
 -wpa.html#tm"><u>h</u></a><a href="https://www.purushacourses.org/courses-w
 pa.html#silence">https://www.purushacourses.org/courses-wpa.html#silence</a
 ><br><br>Course application: <a href="https://www.purushacourses.org/apply-
 wpa-ccc.html"><u><u>https://www.purushacourses.org/apply-wpa-ccc.html</u></
 u></a>
LAST-MODIFIED:20250731T142525Z
SEQUENCE:0
STATUS:CONFIRMED
SUMMARY:Silence WPA - December 29 to January 13 - 15 nights - $2150
TRANSP:TRANSPARENT
END:VEVENT
BEGIN:VEVENT
DTSTART;VALUE=DATE:20251229
DTEND;VALUE=DATE:20260110
DTSTAMP:20251204T015113Z
UID:7blog9qc6n059kagugoq4jn33h@google.com
CREATED:20250731T133407Z
DESCRIPTION:Silence WPA - December 29 to January 9 - 11 nights - $1750<br><
 br><br>Course description: <a href="https://www.purushacourses.org/courses-
 wpa.html#tm"><u><u>h</u></u></a><a href="https://www.purushacourses.org/cou
 rses-wpa.html#silence"><u>https://www.purushacourses.org/courses-wpa.html#s
 ilence</u></a><br><br>Course application: <a href="https://www.purushacours
 es.org/apply-wpa-ccc.html"><u><u><u>https://www.purushacourses.org/apply-wp
 a-ccc.html</u></u></u></a>
LAST-MODIFIED:20250731T142525Z
SEQUENCE:0
STATUS:CONFIRMED
SUMMARY:Silence WPA - December 29 to January 9 - 11 nights - $1750
TRANSP:TRANSPARENT
END:VEVENT
BEGIN:VEVENT
DTSTART;VALUE=DATE:20260725
DTEND;VALUE=DATE:20260802
DTSTAMP:20251204T015113Z
UID:77gilloni7inpclr39dnucoes9@google.com
CREATED:20251122T222223Z
DESCRIPTION:<u><a href="https://www.purushacourses.org">https://www.purusha
 courses.org</a></u><br>Guru Purnima is that special time of year when we ce
 lebrate the fullness of Vedic knowledge given to us by Maharishi and Guru D
 ev. We will celebrate this profound time of year by watching the annual cel
 ebration in MERU\, Holland\, featuring Maharaja and leaders of the Global C
 ountry of World Peace<sup>SM</sup>. This course will also include videos of
  Maharishi speaking about his years with Guru Dev. One word characterizes t
 he experience of the Guru Purnima WPA – fulfillment – both in and out of pr
 ogram.
LAST-MODIFIED:20251122T223354Z
SEQUENCE:0
STATUS:CONFIRMED
SUMMARY:Guru Purnima WPAJuly 25-August 1 7 nights $1300
TRANSP:TRANSPARENT
END:VEVENT
BEGIN:VEVENT
DTSTART;VALUE=DATE:20261229
DTEND;VALUE=DATE:20270114
DTSTAMP:20251204T015113Z
UID:0i8248q9iki936j254vff48nrj@google.com
CREATED:20251122T222921Z
DESCRIPTION:<a href="https://www.purushacourses.org">https://www.purushacou
 rses.org</a><br><br>For decades\, wherever we happened to be\, Purusha spen
 t the first seven days of January in Silence along with Maharishi. We invit
 e you to join us in this annual tradition that starts each New Year from a 
 platform of profound silence and deep experience of the TM and TM-Sidhi pro
 grams. The course includes afternoon and evening meetings with videos of Ma
 harishi. The Silence WPA has been a favorite of many course participants du
 e to the depth of experiences that are often gained during this longest WPA
  of the year.
LAST-MODIFIED:20251122T223107Z
SEQUENCE:0
STATUS:CONFIRMED
SUMMARY:Silence WPA  December 29 to January 13 15 nights  $2150
TRANSP:TRANSPARENT
END:VEVENT
BEGIN:VEVENT
DTSTART;VALUE=DATE:20260213
DTEND;VALUE=DATE:20260221
DTSTAMP:20251204T015113Z
UID:341mh84hpef44pqsrd8ouefi4b@google.com
CREATED:20251122T221707Z
DESCRIPTION:<u><a href="https://www.purushacourses.org">https://www.purusha
 courses.org</a></u><br>Presidents Day is February 15. Course participants c
 an come for 3 or 7 nights. The 3 night course is ideal for people with limi
 ted time who live within driving distance of the Purusha Capital. Mahashiva
 ratri\, the Day of Shiva in the Vedic Calendar when the quality of silence 
 is especially lively in nature\, is on February 15.
LAST-MODIFIED:20251122T223222Z
SEQUENCE:0
STATUS:CONFIRMED
SUMMARY:Presidents Day WPA February 13-20 7 nights $1300
TRANSP:TRANSPARENT
END:VEVENT
BEGIN:VEVENT
DTSTART;VALUE=DATE:20260815
DTEND;VALUE=DATE:20260830
DTSTAMP:20251204T015113Z
UID:7qjttnjv1l0ul92c6m1qgj8ip4@google.com
CREATED:20251122T222400Z
DESCRIPTION:<u><a href="https://www.purushacourses.org">https://www.purusha
 courses.org</a></u><br>In this rarely seen series of lectures to the TM Tea
 chers of Japan\, Maharishi goes into detail on the ancient science and art 
 of supreme leadership. In over 15 hours of  talks Maharishi reveals the Ved
 ic secrets of how to lead oneself as the basis of leading others\, illumina
 ting the central role of consciousness in creating a true leader. These tal
 ks present the knowledge and experience of Unity Consciousness and how to g
 ain the full support of the Vedic Devata\, or Laws of Nature\, the ultimate
  Leader of the universe. The course will be led by Vedic scholar John Brigh
 t\, who coaches leaders (Founders and CEOs) in how to make right choices th
 rough growing their consciousness. The content of this course will be valua
 ble for anyone to bring about greater support of nature for all of their de
 sires and activities.
LAST-MODIFIED:20251122T223406Z
SEQUENCE:0
STATUS:CONFIRMED
SUMMARY:WPA on Maharishi Vedic Leadership\, led by Vedic scholar John Brigh
 t\, PhDAugust 15-29 14 nights $1800
TRANSP:TRANSPARENT
END:VEVENT
BEGIN:VEVENT
DTSTART;VALUE=DATE:20250912
DTEND;VALUE=DATE:20250916
DTSTAMP:20251204T015113Z
UID:4r7l5nm607ro73kgo147jir2b2@google.com
CREATED:20250731T133406Z
DESCRIPTION:<p>TM Retreats for Meditators with Option to Learn an Advanced 
 Technique - September 12-15 - 3 nights - $800</p><br>Course description: <a
  href="https://www.purushacourses.org/courses-wpa.html#tm"><u>https://www.p
 urushacourses.org/courses-wpa.html#tm</u></a><br><br>Course application: <a
  href="https://www.purushacourses.org/apply-wpa-ccc.html"><u><u>https://www
 .purushacourses.org/apply-wpa-ccc.html</u></u></a><p><br></p>
LAST-MODIFIED:20250731T142525Z
SEQUENCE:0
STATUS:CONFIRMED
SUMMARY:TM Retreats for Meditators with Option to Learn an Advanced Techniq
 ue - September 12-15 - 3 nights - $800
TRANSP:TRANSPARENT
END:VEVENT
BEGIN:VEVENT
DTSTART;VALUE=DATE:20260321
DTEND;VALUE=DATE:20260329
DTSTAMP:20251204T015113Z
UID:0t25l1rvp7b1stg13c3c8irf6u@google.com
CREATED:20251122T221824Z
DESCRIPTION:<u><a href="https://www.purushacourses.org">https://www.purusha
 courses.org</a></u><br>This World Peace Assembly coincides with Navaratri\,
  the nine days of the Vedic calendar most lively in the qualities of Mother
  Divine. The course includes special videos of Maharishi Vedic Pandits perf
 orming the traditional recitations for the Nine Days of Mother Divine and a
  lecture by Maharishi on Mother Divine. Navaratri is a particularly auspici
 ous time for enlivening peace of mind\, prosperity\, and fulfillment of des
 ires. Raam Navami\, the birthday of Raam\, is on March 27.
LAST-MODIFIED:20251122T223246Z
SEQUENCE:0
STATUS:CONFIRMED
SUMMARY:Navaratri WPA March 21-28 7 nights $1300
TRANSP:TRANSPARENT
END:VEVENT
BEGIN:VEVENT
DTSTART;VALUE=DATE:20250308
DTEND;VALUE=DATE:20250316
DTSTAMP:20251204T015113Z
UID:14s83lor2rj7lgslefmhmbv3p8@google.com
CREATED:20250731T133406Z
DESCRIPTION:WPA with Dr. Bob Roth - March 8-15 - 7 nights - $1200<br><br>Co
 urse description: <a href="https://www.purushacourses.org/courses-wpa.html#
 march">https://www.purushacourses.org/courses-wpa.html#march</a><br><br>Cou
 rse application: <a href="https://www.purushacourses.org/apply-wpa-ccc.html
 ">https://www.purushacourses.org/apply-wpa-ccc.html</a>
LAST-MODIFIED:20250731T142525Z
SEQUENCE:0
STATUS:CONFIRMED
SUMMARY:WPA with Dr. Bob Roth - March 8-15 - 7 nights - $1200
TRANSP:TRANSPARENT
END:VEVENT
BEGIN:VEVENT
DTSTART;VALUE=DATE:20260523
DTEND;VALUE=DATE:20260531
DTSTAMP:20251204T015113Z
UID:3c5t97jpagu6t64hejpu5thfn4@google.com
CREATED:20251122T221948Z
DESCRIPTION:<u><a href="https://www.purushacourses.org">https://www.purusha
 courses.org</a></u><br><p>This course will explore the underlying deep prin
 ciples of Maharishi Vedic Science in various areas of Veda and Vedic litera
 ture and will connect your experiences during the practice of the Transcend
 ental Meditation and TM-Sidhi programs with Maharishi’s knowledge. You will
  get a holistic understanding of how the regular practice of these technolo
 gies very naturally advances your spiritual evolution towards enlightenment
 . Topics explored will be TM in the light of Maharishi Vedic Science\, Maha
 rishi Yoga–Unification of Individual and Cosmic Life\, Maharishi AyurVeda–T
 he Science of Wholeness of Life\, Vedanta–Human Life in Perfection and Comp
 lete Alliance with Natural Law\, and the Apaurusheya Bhashya–Maharishi’s co
 mmentary on the Eternal\, Uncreated Rik Veda. For a more detailed course de
 scription visit <a href="http://purushacourses.org" target="_blank">purusha
 courses.org</a>.</p><p>Dr. Girish Momaya is a director of Maharishi Europea
 n Research University and is also a director at International Maharishi Ayu
 rveda Foundation in the Netherlands. Dr. Momaya spent many years working un
 der the guidance of Maharishi Mahesh Yogi\, receiving extensive education a
 nd training in all aspects of Vedic Science. </p><p>Dr. Neil Paterson also 
 worked extensively with Maharishi for well over 30 years\, and is currently
  working closely with Maharaja Adhiraj Rajaraam. Most recently\, Neil has b
 een helping establish Maharishi Vastu campuses for Maharishi Vedic Pandits 
 in India and Nepal. Dr. Momaya and Dr. Paterson are both TM-Sidhi Program A
 dministrators and Advanced Technique teachers. There will be an opportunity
  on this course to discuss experiences and answer questions regarding your 
 TM-Sidhi practice. There may also be an opportunity to learn an Advanced Te
 chnique\, depending upon demand.</p>
LAST-MODIFIED:20251122T223341Z
SEQUENCE:1
STATUS:CONFIRMED
SUMMARY:Memorial Day WPA with Dr. Girish Momaya and Dr. Neil Paterson on Ma
 harishi’s Insights into Vedic Science May 23-30 7 nights $1300
TRANSP:TRANSPARENT
END:VEVENT
BEGIN:VEVENT
DTSTART;VALUE=DATE:20261229
DTEND;VALUE=DATE:20270110
DTSTAMP:20251204T015113Z
UID:4h8c69h31dm6ens34j16pars8p@google.com
CREATED:20251122T222817Z
DESCRIPTION:<u><a href="https://www.purushacourses.org">https://www.purusha
 courses.org</a></u><br>For decades\, wherever we happened to be\, Purusha s
 pent the first seven days of January in Silence along with Maharishi. We in
 vite you to join us in this annual tradition that starts each New Year from
  a platform of profound silence and deep experience of the TM and TM-Sidhi 
 programs. The course includes afternoon and evening meetings with videos of
  Maharishi. The Silence WPA has been a favorite of many course participants
  due to the depth of experiences that are often gained during this longest 
 WPA of the year.
LAST-MODIFIED:20251122T223134Z
SEQUENCE:0
STATUS:CONFIRMED
SUMMARY:Silence WPA December 29 to January 9  11 nights  $1750
TRANSP:TRANSPARENT
END:VEVENT
BEGIN:VEVENT
DTSTART;VALUE=DATE:20250517
DTEND;VALUE=DATE:20250525
DTSTAMP:20251204T015113Z
UID:5j1msbrqjfcpm0ukb0d5qt64g3@google.com
CREATED:20250731T133406Z
DESCRIPTION:WPA with Dr. Neil Paterson  - May 17-24 - 7 nights - $1200<br><
 br><br>Course description: <a href="https://www.purushacourses.org/courses-
 wpa.html#may">https://www.purushacourses.org/courses-wpa.html#may</a><br><b
 r>Course application: <a href="https://www.purushacourses.org/apply-wpa-ccc
 .html"><u><u>https://www.purushacourses.org/apply-wpa-ccc.html</u></u></a>
LAST-MODIFIED:20250731T142525Z
SEQUENCE:2
STATUS:CONFIRMED
SUMMARY:WPA with Dr. Neil Paterson  - May 17-24 - 7 nights - $1200
TRANSP:TRANSPARENT
END:VEVENT
BEGIN:VEVENT
DTSTART;VALUE=DATE:20261115
DTEND;VALUE=DATE:20261123
DTSTAMP:20251204T015113Z
UID:41hfs7d2g7cgt294gqjqsp171v@google.com
CREATED:20251122T222611Z
DESCRIPTION:<u><a href="https://www.purushacourses.org">https://www.purusha
 courses.org</a></u><br>During this WPA we will celebrate Dipavali\, the Fes
 tival of Lights (Mahalakshmi Day)\, on November 8th and play a video of Mah
 arishi speaking on Mahalakshmi. The qualities of Natural Law lively on this
  day bestow good fortune\, happiness\, health\, the fulfillment of desires\
 , and the elimination of obstacles.
LAST-MODIFIED:20251122T223429Z
SEQUENCE:0
STATUS:CONFIRMED
SUMMARY:Dipavali WPA November 15-22 7 nights $1300
TRANSP:TRANSPARENT
END:VEVENT
BEGIN:VEVENT
DTSTART;VALUE=DATE:20250613
DTEND;VALUE=DATE:20250617
DTSTAMP:20251204T015113Z
UID:5p0f4b7jg12bmbtgs9okvute1f@google.com
CREATED:20250731T133406Z
DESCRIPTION:<p>TM Retreats for Meditators with Option to Learn an Advanced 
 Technique - June 13-16 - 3 nights - $800</p><br>Course description: <a href
 ="https://www.purushacourses.org/courses-wpa.html#tm"><u>https://www.purush
 acourses.org/courses-wpa.html#tm</u></a><br><br>Course application: <a href
 ="https://www.purushacourses.org/apply-wpa-ccc.html"><u><u>https://www.puru
 shacourses.org/apply-wpa-ccc.html</u></u></a>
LAST-MODIFIED:20250731T142525Z
SEQUENCE:0
STATUS:CONFIRMED
SUMMARY:TM Retreats for Meditators with Option to Learn an Advanced Techniq
 ue - June 13-16 - 3 nights - $800
TRANSP:TRANSPARENT
END:VEVENT
BEGIN:VEVENT
DTSTART;VALUE=DATE:20261010
DTEND;VALUE=DATE:20261018
DTSTAMP:20251204T015113Z
UID:0r4r8lp93ttqptrgdgnr4ru0ri@google.com
CREATED:20251122T222522Z
DESCRIPTION:<u><a href="https://www.purushacourses.org">https://www.purusha
 courses.org</a></u><br><p>Dr Doug BirxThis course is a special opportunity 
 to spend time with one of the great leaders of the TM organization and refr
 esh your understanding of correct practice of the TM and TM-Sidhi programs.
  Over the past 48 years\, Dr. Doug Birx\, who Maharishi named the “Master C
 hecker”\, has taught many thousands of people the TM-Sidhi program in more 
 than 90 CIC Courses</p><p>Course participants enjoy Doug’s warmth and wisdo
 m as he discusses experiences and conducts a thorough review of correct pra
 ctice of the TM-Sidhi program. There will also be an opportunity to meet wi
 th Doug privately about your TM-Sidhi practice. His courses typically fill 
 up\, so be sure to reserve a room e</p><p>Some comments from prior courses:
 </p><p></p><ul><li>“This WPA is the best one I've ever attended in my 41 ye
 ars of TM and Sidhis practice.”</li><li>“My program was totally transformed
  during this course.”</li><li>“Doug completely eliminated any trace of effo
 rt that I’d been having in program.”</li><li>“I couldn’t believe how genero
 us he was with his one-on-one consultations. Program has become so blissful
 .”</li></ul><p>This course coincides with Navaratri\, the nine days of the 
 Vedic calendar most lively in the qualities of Mother Divine.</p>
LAST-MODIFIED:20251122T223417Z
SEQUENCE:0
STATUS:CONFIRMED
SUMMARY:Navaratri WPA with Dr. Doug Birx October 10-17 7 nights $1300
TRANSP:TRANSPARENT
END:VEVENT
BEGIN:VEVENT
DTSTART;VALUE=DATE:20251114
DTEND;VALUE=DATE:20251118
DTSTAMP:20251204T015113Z
UID:46igss39k98uak9b1it1tqvn89@google.com
CREATED:20250731T133406Z
DESCRIPTION:<p>TM Retreats for Meditators with Option to Learn an Advanced 
 Technique - November 14-17 - 3 nights - $800</p><br>Course description: <a 
 href="https://www.purushacourses.org/courses-wpa.html#tm"><u>https://www.pu
 rushacourses.org/courses-wpa.html#tm</u></a><br><br>Course application: <a 
 href="https://www.purushacourses.org/apply-wpa-ccc.html"><u><u>https://www.
 purushacourses.org/apply-wpa-ccc.html</u></u></a>
LAST-MODIFIED:20250731T142525Z
SEQUENCE:0
STATUS:CONFIRMED
SUMMARY:TM Retreats for Meditators with Option to Learn an Advanced Techniq
 ue - November 14-17 - 3 nights - $800
TRANSP:TRANSPARENT
END:VEVENT
BEGIN:VEVENT
DTSTART;VALUE=DATE:20251011
DTEND;VALUE=DATE:20251019
DTSTAMP:20251204T015113Z
UID:68o0pmdkr18t9v24gocvhukghj@google.com
CREATED:20250731T133406Z
DESCRIPTION:TM-Sidhi Refresher Course with Dr. Doug Birx - October 11-18 - 
 7 nights - $1200<br><br><br>Course description: <a href="https://www.purush
 acourses.org/courses-wpa.html#october">https://www.purushacourses.org/cours
 es-wpa.html#october</a><br><br>Course application: <a href="https://www.pur
 ushacourses.org/apply-wpa-ccc.html"><u><u>https://www.purushacourses.org/ap
 ply-wpa-ccc.html</u></u></a>
LAST-MODIFIED:20250731T142525Z
SEQUENCE:0
STATUS:CONFIRMED
SUMMARY:TM-Sidhi Refresher Course with Dr. Doug Birx - October 11-18 - 7 ni
 ghts - $1200
TRANSP:TRANSPARENT
END:VEVENT
BEGIN:VEVENT
DTSTART;VALUE=DATE:20250705
DTEND;VALUE=DATE:20250713
DTSTAMP:20251204T015113Z
UID:6totk88kp01p0k2pj95k3dte5v@google.com
CREATED:20250731T133407Z
DESCRIPTION:Guru Purnima WPA - July 5-12 - 7 nights - $1200<br><br><br>Cour
 se description: <a href="https://www.purushacourses.org/courses-wpa.html#ju
 ly">https://www.purushacourses.org/courses-wpa.html#july</a><br><br>Course 
 application: <a href="https://www.purushacourses.org/apply-wpa-ccc.html"><u
 ><u>https://www.purushacourses.org/apply-wpa-ccc.html</u></u></a>
LAST-MODIFIED:20250731T142525Z
SEQUENCE:0
STATUS:CONFIRMED
SUMMARY:Guru Purnima WPA - July 5-12 - 7 nights - $1200
TRANSP:TRANSPARENT
END:VEVENT
BEGIN:VEVENT
DTSTART;VALUE=DATE:20250809
DTEND;VALUE=DATE:20250824
DTSTAMP:20251204T015113Z
UID:4f8f4q424ho7ao69f4fha8v41t@google.com
CREATED:20250731T133406Z
DESCRIPTION:Bhagavad Gita and Yoga Sutras WPA with Dr. John Bright - August
  9-23 - 14 nights - $1600<br><br><br>Course description: <a href="https://w
 ww.purushacourses.org/courses-wpa.html#august">https://www.purushacourses.o
 rg/courses-wpa.html#august</a><br><br>Course application: <a href="https://
 www.purushacourses.org/apply-wpa-ccc.html"><u><u>https://www.purushacourses
 .org/apply-wpa-ccc.html</u></u></a>
LAST-MODIFIED:20250731T142525Z
SEQUENCE:0
STATUS:CONFIRMED
SUMMARY:Bhagavad Gita and Yoga Sutras WPA with Dr. John Bright - August 9-2
 3 - 14 nights - $1600
TRANSP:TRANSPARENT
END:VEVENT
BEGIN:VEVENT
DTSTART;VALUE=DATE:20251115
DTEND;VALUE=DATE:20251123
DTSTAMP:20251204T015113Z
UID:7rmqjbu3i573vfao2v3hssf790@google.com
CREATED:20250731T133407Z
DESCRIPTION:WPA with Dr. Neil Paterson - November 15-22 - 7 nights - $1200<
 br><br><br>Course description: <a href="https://www.purushacourses.org/cour
 ses-wpa.html#november">https://www.purushacourses.org/courses-wpa.html#nove
 mber</a><br><br>Course application: <a href="https://www.purushacourses.org
 /apply-wpa-ccc.html"><u><u>https://www.purushacourses.org/apply-wpa-ccc.htm
 l</u></u></a>
LAST-MODIFIED:20250731T142525Z
SEQUENCE:1
STATUS:CONFIRMED
SUMMARY:WPA with Dr. Neil Paterson - November 15-22 - 7 nights - $1200
TRANSP:OPAQUE
END:VEVENT
BEGIN:VEVENT
DTSTART;VALUE=DATE:20250418
DTEND;VALUE=DATE:20250422
DTSTAMP:20251204T015113Z
UID:16ujkg6o5j9hvfak256p1ihto2@google.com
CREATED:20250731T133406Z
DESCRIPTION:TM Retreats for Meditators with Option to Learn an Advanced Tec
 hnique - April 18-21 - 3 nights - $800<br><br>Course description: <a href="
 https://www.purushacourses.org/courses-wpa.html#tm">https://www.purushacour
 ses.org/courses-wpa.html#tm</a><br><br>Course application: <a href="https:/
 /www.purushacourses.org/apply-wpa-ccc.html"><u>https://www.purushacourses.o
 rg/apply-wpa-ccc.html</u></a>
LAST-MODIFIED:20250731T142525Z
SEQUENCE:0
STATUS:CONFIRMED
SUMMARY:TM Retreats for Meditators with Option to Learn an Advanced Techniq
 ue - April 18-21 - 3 nights - $800
TRANSP:TRANSPARENT
END:VEVENT
BEGIN:VEVENT
DTSTART;VALUE=DATE:20260213
DTEND;VALUE=DATE:20260217
DTSTAMP:20251204T015113Z
UID:7d46s4tlcmrvldcdt4j243urhe@google.com
CREATED:20251122T221522Z
DESCRIPTION:<u><a href="https://www.purushacourses.org">https://www.purusha
 courses.org</a></u><br>Presidents Day is February 15. Course participants c
 an come for 3 or 7 nights. The 3 night course is ideal for people with limi
 ted time who live within driving distance of the Purusha Capital. Mahashiva
 ratri\, the Day of Shiva in the Vedic Calendar when the quality of silence 
 is especially lively in nature\, is on February 15.
LAST-MODIFIED:20251122T223236Z
SEQUENCE:0
STATUS:CONFIRMED
SUMMARY:Presidents Day WPA February 13-16 3 nights $550
TRANSP:TRANSPARENT
END:VEVENT
END:VCALENDAR
